BEGIN:VCALENDAR
VERSION:2.0
PRODID:-//Tukios.com/
BEGIN:VEVENT
UID:fb2fe814-d22d-4deb-8c84-284e659e72d6@www.pineviewfuneralservice.com
DTSTAMP:20260425T014856Z
DTSTART:20260426T000000Z
DTEND:20260426T010000Z
SUMMARY:Visitation
DESCRIPTION:
URL:https://www.pineviewfuneralservice.com/obituaries/dolores-bowstring
LOCATION:Pineview Funeral Service 9343 County Hwy K  Hayward WI 54843
GEO:45.9725395;-91.3794408
END:VEVENT
END:VCALENDAR