BEGIN:VCALENDAR
VERSION:2.0
PRODID:-//Tukios.com/
BEGIN:VEVENT
UID:2cb569a4-9370-4165-8e46-f83d88c55afc@www.pineviewfuneralservice.com
DTSTAMP:20260425T014410Z
DTSTART:20260426T150000Z
DTEND:20260426T160000Z
SUMMARY:Funeral Service
DESCRIPTION:
URL:https://www.pineviewfuneralservice.com/obituaries/dolores-bowstring
LOCATION:Pineview Funeral Service 9343 County Hwy K  Hayward WI 54843
GEO:45.9725395;-91.3794408
END:VEVENT
END:VCALENDAR