BEGIN:VCALENDAR
VERSION:2.0
PRODID:-//Tukios.com/
BEGIN:VEVENT
UID:a8d96298-f18b-4da0-82d0-3d1e53dd12d6@www.pineviewfuneralservice.com
DTSTAMP:20260421T224948Z
DTSTART:20260425T150000Z
DTEND:20260425T160000Z
SUMMARY:Visitation
DESCRIPTION:
URL:https://www.pineviewfuneralservice.com/obituaries/donald-jalowitz
LOCATION:Northern Lights Christian Church 15733W County Rd B  Hayward WI 
	54843
GEO:46.005538;-91.4796722
END:VEVENT
END:VCALENDAR