BEGIN:VCALENDAR
VERSION:2.0
PRODID:-//Tukios.com/
BEGIN:VEVENT
UID:3cf8b18f-1d5e-4aee-8ea1-174b895d4fea@www.pineviewfuneralservice.com
DTSTAMP:20260421T225108Z
DTSTART:20260425T160000Z
DTEND:20260425T170000Z
SUMMARY:Funeral Service
DESCRIPTION:
URL:https://www.pineviewfuneralservice.com/obituaries/donald-jalowitz
LOCATION:15733 Co Rd B 15733 Co Rd B  Hayward WI 54843
GEO:46.005538;-91.4796722
END:VEVENT
END:VCALENDAR