BEGIN:VCALENDAR
VERSION:2.0
PRODID:-//Tukios.com/
BEGIN:VEVENT
UID:38e17a48-7a48-4f02-ac0c-326f42f670ab@www.pineviewfuneralservice.com
DTSTAMP:20260421T225128Z
DTSTART:20260425T170000Z
DTEND:20260425T180000Z
SUMMARY:Memorial Gathering
DESCRIPTION:
URL:https://www.pineviewfuneralservice.com/obituaries/donald-jalowitz
LOCATION:Northern Lights Christian Church 15733W County Road B  Hayward 
	WI 54843
GEO:46.005538;-91.4796722
END:VEVENT
END:VCALENDAR